BEGIN:VCALENDAR
VERSION:2.0
PRODID:-//Southwest Virginia Firefighters Association - ECPv6.15.20//NONSGML v1.0//EN
CALSCALE:GREGORIAN
METHOD:PUBLISH
X-WR-CALNAME:Southwest Virginia Firefighters Association
X-ORIGINAL-URL:https://swvafirefighters.com
X-WR-CALDESC:Events for Southwest Virginia Firefighters Association
REFRESH-INTERVAL;VALUE=DURATION:PT1H
X-Robots-Tag:noindex
X-PUBLISHED-TTL:PT1H
BEGIN:VTIMEZONE
TZID:America/New_York
BEGIN:DAYLIGHT
TZOFFSETFROM:-0500
TZOFFSETTO:-0400
TZNAME:EDT
DTSTART:20240310T070000
END:DAYLIGHT
BEGIN:STANDARD
TZOFFSETFROM:-0400
TZOFFSETTO:-0500
TZNAME:EST
DTSTART:20241103T060000
END:STANDARD
BEGIN:DAYLIGHT
TZOFFSETFROM:-0500
TZOFFSETTO:-0400
TZNAME:EDT
DTSTART:20250309T070000
END:DAYLIGHT
BEGIN:STANDARD
TZOFFSETFROM:-0400
TZOFFSETTO:-0500
TZNAME:EST
DTSTART:20251102T060000
END:STANDARD
BEGIN:DAYLIGHT
TZOFFSETFROM:-0500
TZOFFSETTO:-0400
TZNAME:EDT
DTSTART:20260308T070000
END:DAYLIGHT
BEGIN:STANDARD
TZOFFSETFROM:-0400
TZOFFSETTO:-0500
TZNAME:EST
DTSTART:20261101T060000
END:STANDARD
END:VTIMEZONE
BEGIN:VEVENT
DTSTART;TZID=America/New_York:20250119T130000
DTEND;TZID=America/New_York:20250119T160000
DTSTAMP:20260424T182548
CREATED:20240814T023429Z
LAST-MODIFIED:20240814T023429Z
UID:9666-1737291600-1737302400@swvafirefighters.com
SUMMARY:2025 Winter Business Meeting
DESCRIPTION:
URL:https://swvafirefighters.com/events/2025-winter-business-meeting/
LOCATION:Boiling Springs Volunteer Fire Department\, 5407 Potts Creek Road\, Covington\, VA\, 24426\, United States
CATEGORIES:Quarterly Business Meeting
END:VEVENT
END:VCALENDAR