BEGIN:VCALENDAR
VERSION:2.0
PRODID:-//Southwest Virginia Firefighters Association - ECPv6.15.20//NONSGML v1.0//EN
CALSCALE:GREGORIAN
METHOD:PUBLISH
X-WR-CALNAME:Southwest Virginia Firefighters Association
X-ORIGINAL-URL:https://swvafirefighters.com
X-WR-CALDESC:Events for Southwest Virginia Firefighters Association
REFRESH-INTERVAL;VALUE=DURATION:PT1H
X-Robots-Tag:noindex
X-PUBLISHED-TTL:PT1H
BEGIN:VTIMEZONE
TZID:America/New_York
BEGIN:DAYLIGHT
TZOFFSETFROM:-0500
TZOFFSETTO:-0400
TZNAME:EDT
DTSTART:20210314T070000
END:DAYLIGHT
BEGIN:STANDARD
TZOFFSETFROM:-0400
TZOFFSETTO:-0500
TZNAME:EST
DTSTART:20211107T060000
END:STANDARD
BEGIN:DAYLIGHT
TZOFFSETFROM:-0500
TZOFFSETTO:-0400
TZNAME:EDT
DTSTART:20220313T070000
END:DAYLIGHT
BEGIN:STANDARD
TZOFFSETFROM:-0400
TZOFFSETTO:-0500
TZNAME:EST
DTSTART:20221106T060000
END:STANDARD
BEGIN:DAYLIGHT
TZOFFSETFROM:-0500
TZOFFSETTO:-0400
TZNAME:EDT
DTSTART:20230312T070000
END:DAYLIGHT
BEGIN:STANDARD
TZOFFSETFROM:-0400
TZOFFSETTO:-0500
TZNAME:EST
DTSTART:20231105T060000
END:STANDARD
BEGIN:DAYLIGHT
TZOFFSETFROM:-0500
TZOFFSETTO:-0400
TZNAME:EDT
DTSTART:20240310T070000
END:DAYLIGHT
BEGIN:STANDARD
TZOFFSETFROM:-0400
TZOFFSETTO:-0500
TZNAME:EST
DTSTART:20241103T060000
END:STANDARD
BEGIN:DAYLIGHT
TZOFFSETFROM:-0500
TZOFFSETTO:-0400
TZNAME:EDT
DTSTART:20250309T070000
END:DAYLIGHT
BEGIN:STANDARD
TZOFFSETFROM:-0400
TZOFFSETTO:-0500
TZNAME:EST
DTSTART:20251102T060000
END:STANDARD
END:VTIMEZONE
BEGIN:VEVENT
DTSTART;TZID=America/New_York:20240922T130000
DTEND;TZID=America/New_York:20240922T130000
DTSTAMP:20260423T175833
CREATED:20240814T023015Z
LAST-MODIFIED:20240814T023015Z
UID:9663-1727010000-1727010000@swvafirefighters.com
SUMMARY:2024 Fall Business Meeting
DESCRIPTION:
URL:https://swvafirefighters.com/events/2024-fall-business-meeting/
LOCATION:Christiansburg Fire Department\, 110 Depot Street\, Christiansburg\, 24073\, United States
CATEGORIES:Quarterly Business Meeting
END:VEVENT
BEGIN:VEVENT
DTSTART;VALUE=DATE:20240918
DTEND;VALUE=DATE:20240923
DTSTAMP:20260423T175833
CREATED:20240821T004130Z
LAST-MODIFIED:20240821T004130Z
UID:9677-1726617600-1727049599@swvafirefighters.com
SUMMARY:5th Annual First Responders Virginia Conference
DESCRIPTION:
URL:https://swvafirefighters.com/events/5th-annual-first-responders-virginia-conference/
LOCATION:Virginia Beach Convention Center\, 1000 19th Street\, Va. Beach\, VA\, 23451\, United States
CATEGORIES:Misc.
ORGANIZER;CN="Virginia State Firefighters Association":MAILTO:lsgwaltney@cox.net
END:VEVENT
BEGIN:VEVENT
DTSTART;TZID=America/New_York:20240908T110000
DTEND;TZID=America/New_York:20240908T110000
DTSTAMP:20260423T175833
CREATED:20240821T004619Z
LAST-MODIFIED:20240821T004702Z
UID:9680-1725793200-1725793200@swvafirefighters.com
SUMMARY:Barren Springs Vol. Fire Department Fish Fry
DESCRIPTION:
URL:https://swvafirefighters.com/events/barren-springs-vol-fire-department-fish-fry/
LOCATION:Barren Springs Fire Department\, 1449 Wysor Highway\, Barren Springs\, VA\, 24313\, United States
CATEGORIES:Fundraising
END:VEVENT
BEGIN:VEVENT
DTSTART;TZID=America/New_York:20240615T090000
DTEND;TZID=America/New_York:20240615T120000
DTSTAMP:20260423T175833
CREATED:20231206T145419Z
LAST-MODIFIED:20240124T220308Z
UID:8649-1718442000-1718452800@swvafirefighters.com
SUMMARY:78th Annual Convention Business Meeting
DESCRIPTION:
URL:https://swvafirefighters.com/events/78th-annual-convention-business-meeting/
LOCATION:Natural Bridge Hotel and Conference Center\, 15 Appledore Ln\, Natural Bridge\, VA\, 24578\, United States
CATEGORIES:Quarterly Business Meeting
END:VEVENT
BEGIN:VEVENT
DTSTART;TZID=America/New_York:20240614T073000
DTEND;TZID=America/New_York:20240614T160000
DTSTAMP:20260423T175833
CREATED:20240423T003811Z
LAST-MODIFIED:20240423T003811Z
UID:9538-1718350200-1718380800@swvafirefighters.com
SUMMARY:2024 Southwest Virginia Firefighters Association Convention Training
DESCRIPTION:06-14-2024 Lithium Ion Battery at SWVFA Convention (1)
URL:https://swvafirefighters.com/events/2024-southwest-virginia-firefighters-association-convention-training/
LOCATION:Natural Bridge Hotel and Conference Center\, 15 Appledore Ln\, Natural Bridge\, VA\, 24578\, United States
CATEGORIES:Training
END:VEVENT
BEGIN:VEVENT
DTSTART;TZID=America/New_York:20240613T080000
DTEND;TZID=America/New_York:20240616T120000
DTSTAMP:20260423T175833
CREATED:20231206T145716Z
LAST-MODIFIED:20240121T171222Z
UID:8652-1718265600-1718539200@swvafirefighters.com
SUMMARY:78th Annual Convention
DESCRIPTION:
URL:https://swvafirefighters.com/events/78th-annual-convention/
LOCATION:Natural Bridge Hotel and Conference Center\, 15 Appledore Ln\, Natural Bridge\, VA\, 24578\, United States
CATEGORIES:Convention
END:VEVENT
BEGIN:VEVENT
DTSTART;VALUE=DATE:20240504
DTEND;VALUE=DATE:20240505
DTSTAMP:20260423T175833
CREATED:20240313T020737Z
LAST-MODIFIED:20240313T020737Z
UID:9505-1714780800-1714867199@swvafirefighters.com
SUMMARY:Urban Tactics Fire Seminar
DESCRIPTION:
URL:https://swvafirefighters.com/events/urban-tactics-fire-seminar/
LOCATION:Michael Waltrip Brewing in Bristol\, 221 Moore St\, Bristol\, VA\, United States
CATEGORIES:Training
END:VEVENT
BEGIN:VEVENT
DTSTART;TZID=America/New_York:20240420T080000
DTEND;TZID=America/New_York:20240420T170000
DTSTAMP:20260423T175833
CREATED:20240313T021511Z
LAST-MODIFIED:20240313T021511Z
UID:9510-1713600000-1713632400@swvafirefighters.com
SUMMARY:Virginia Fire Chiefs Association Volunteer Summit
DESCRIPTION:
URL:https://swvafirefighters.com/events/virginia-fire-chiefs-association-volunteer-summit/
LOCATION:Abingdon Fire Department\, 316 Park Street\, Abingdon\, VA\, 24210\, United States
CATEGORIES:Training
END:VEVENT
BEGIN:VEVENT
DTSTART;TZID=America/New_York:20240414T130000
DTEND;TZID=America/New_York:20240414T160000
DTSTAMP:20260423T175833
CREATED:20231206T144834Z
LAST-MODIFIED:20240121T171055Z
UID:8643-1713099600-1713110400@swvafirefighters.com
SUMMARY:2024 Spring Business Meeting
DESCRIPTION:
URL:https://swvafirefighters.com/events/2024-spring-business-meeting/
LOCATION:Newbern Volunteer Fire Department\, 5297 Wilderness Road\, Dublin\, VA\, 24084\, United States
CATEGORIES:Quarterly Business Meeting
END:VEVENT
BEGIN:VEVENT
DTSTART;TZID=America/New_York:20240302T080000
DTEND;TZID=America/New_York:20240302T130000
DTSTAMP:20260423T175833
CREATED:20231226T165809Z
LAST-MODIFIED:20240124T025152Z
UID:8934-1709366400-1709384400@swvafirefighters.com
SUMMARY:Southwest Regional Shaker's Forum
DESCRIPTION:Shakers
URL:https://swvafirefighters.com/events/southwest-regional-shakers-forum/
LOCATION:Roanoke Regional Fire/EMS Training Center\, 1220 Kessler Mill Road\, Salem\, VA\, 24153\, United States
CATEGORIES:Misc.
END:VEVENT
BEGIN:VEVENT
DTSTART;TZID=America/New_York:20240114T130000
DTEND;TZID=America/New_York:20240114T160000
DTSTAMP:20260423T175833
CREATED:20231206T144604Z
LAST-MODIFIED:20231206T144632Z
UID:8639-1705237200-1705248000@swvafirefighters.com
SUMMARY:2024 Winter Business Meeting
DESCRIPTION:
URL:https://swvafirefighters.com/events/2024-winter-business-meeting/
LOCATION:Abingdon Fire Department\, 316 Park Street\, Abingdon\, VA\, 24210\, United States
CATEGORIES:Quarterly Business Meeting
END:VEVENT
BEGIN:VEVENT
DTSTART;TZID=America/New_York:20240113T080000
DTEND;TZID=America/New_York:20240113T120000
DTSTAMP:20260423T175833
CREATED:20231207T205020Z
LAST-MODIFIED:20231207T205511Z
UID:8885-1705132800-1705147200@swvafirefighters.com
SUMMARY:Compton Benefit Breakfast
DESCRIPTION:
URL:https://swvafirefighters.com/events/compton-benefit-breakfast/
LOCATION:Radford Fire and EMS Department\, 1500 Wandsworth Street\, Radford\, VA\, 24141\, United States
CATEGORIES:Fundraising
END:VEVENT
BEGIN:VEVENT
DTSTART;TZID=America/New_York:20230617T090000
DTEND;TZID=America/New_York:20230617T113000
DTSTAMP:20260423T175833
CREATED:20220710T023143Z
LAST-MODIFIED:20231201T205451Z
UID:5645-1686992400-1687001400@swvafirefighters.com
SUMMARY:77th Annual Convention Business Meeting
DESCRIPTION:
URL:https://swvafirefighters.com/events/77th-annual-convention-business-meeting/
LOCATION:Meadow View Conference Resort & Convention Center\, Kingsport\, TN\, 37660\, United States
CATEGORIES:Calendar
END:VEVENT
BEGIN:VEVENT
DTSTART;TZID=America/New_York:20230416T130000
DTEND;TZID=America/New_York:20230416T150000
DTSTAMP:20260423T175833
CREATED:20220710T022647Z
LAST-MODIFIED:20220710T022647Z
UID:5640-1681650000-1681657200@swvafirefighters.com
SUMMARY:2023 Spring Business Meeting
DESCRIPTION:
URL:https://swvafirefighters.com/events/2023-spring-business-meeting/
LOCATION:Hiltons Volunteer Fire Department\, 2538 Hilton Road\, Hilton\, VA\, 24258\, United States
CATEGORIES:Quarterly Business Meeting
END:VEVENT
BEGIN:VEVENT
DTSTART;TZID=America/New_York:20230108T130000
DTEND;TZID=America/New_York:20230108T150000
DTSTAMP:20260423T175833
CREATED:20220710T021050Z
LAST-MODIFIED:20221205T015918Z
UID:5637-1673182800-1673190000@swvafirefighters.com
SUMMARY:2023 Winter Business Meeting
DESCRIPTION:
URL:https://swvafirefighters.com/events/2023-winter-business-meeting/
LOCATION:Boiling Springs Volunteer Fire Department\, 5407 Potts Creek Road\, Covington\, VA\, 24426\, United States
CATEGORIES:Quarterly Business Meeting
END:VEVENT
BEGIN:VEVENT
DTSTART;TZID=America/New_York:20220924T063000
DTEND;TZID=America/New_York:20220924T170000
DTSTAMP:20260423T175833
CREATED:20220717T021202Z
LAST-MODIFIED:20220717T022929Z
UID:5683-1664001000-1664038800@swvafirefighters.com
SUMMARY:First Annual Fish on Fire Tournament
DESCRIPTION:Ruritan Fishing Tournament 2022
URL:https://swvafirefighters.com/events/first-annual-fish-on-fire-tournament/
LOCATION:Clator Lke State Park\, State Park Road\, Newbern\, VA\, United States
CATEGORIES:Fundraising
END:VEVENT
BEGIN:VEVENT
DTSTART;TZID=America/New_York:20220918T130000
DTEND;TZID=America/New_York:20220918T150000
DTSTAMP:20260423T175833
CREATED:20220710T020652Z
LAST-MODIFIED:20220710T020652Z
UID:5634-1663506000-1663513200@swvafirefighters.com
SUMMARY:2022 Fall Business Meeting
DESCRIPTION:
URL:https://swvafirefighters.com/events/2022-fall-business-meeting/
LOCATION:Draper Volunteer Fire Department\, 4380 Academy Street\, Draper\, VA\, 24313\, United States
CATEGORIES:Quarterly Business Meeting
END:VEVENT
BEGIN:VEVENT
DTSTART;TZID=America/New_York:20220911T110000
DTEND;TZID=America/New_York:20220911T150000
DTSTAMP:20260423T175833
CREATED:20220804T002131Z
LAST-MODIFIED:20220804T011257Z
UID:5718-1662894000-1662908400@swvafirefighters.com
SUMMARY:Barren Springs Vol. Fire Department Annual Fish Fry
DESCRIPTION:BSVFD 2022 Fish Fry Flyer
URL:https://swvafirefighters.com/events/barren-springs-vol-fire-department-annual-fish-fry/
LOCATION:Barren Springs Fire Department\, 1449 Wysor Highway\, Barren Springs\, VA\, 24313\, United States
CATEGORIES:Fundraising
END:VEVENT
BEGIN:VEVENT
DTSTART;TZID=America/New_York:20220803T080000
DTEND;TZID=America/New_York:20220803T170000
DTSTAMP:20260423T175833
CREATED:20220804T001815Z
LAST-MODIFIED:20220804T001815Z
UID:5714-1659513600-1659546000@swvafirefighters.com
SUMMARY:Barren Springs Annual Fish Fry
DESCRIPTION:
URL:https://swvafirefighters.com/events/barren-springs-annual-fish-fry/
LOCATION:TN
CATEGORIES:Fundraising
END:VEVENT
BEGIN:VEVENT
DTSTART;TZID=America/New_York:20220716T110000
DTEND;TZID=America/New_York:20220716T150000
DTSTAMP:20260423T175833
CREATED:20220710T023840Z
LAST-MODIFIED:20220710T023840Z
UID:5649-1657969200-1657983600@swvafirefighters.com
SUMMARY:Snowville Volunteer Fire Department BBQ & Craft Show
DESCRIPTION:Snowville FD BBQ and Craft Show
URL:https://swvafirefighters.com/events/snowville-volunteer-fire-department-bbq-craft-show/
LOCATION:Snowville Volunteer Fire Department\, 4551 Lead Mine RD\, Hiwassee\, VA\, 24347\, United States
CATEGORIES:Fundraising
END:VEVENT
BEGIN:VEVENT
DTSTART;TZID=America/New_York:20220618T090000
DTEND;TZID=America/New_York:20220618T110000
DTSTAMP:20260423T175833
CREATED:20210927T031606Z
LAST-MODIFIED:20210927T031606Z
UID:5420-1655542800-1655550000@swvafirefighters.com
SUMMARY:2022 Convention Business Meeting
DESCRIPTION:The 77th Annual Conference Business Meeting will be held 18 June\, 2022 at the annual conference at 0900 hours.
URL:https://swvafirefighters.com/events/2022-convention-business-meeting/
LOCATION:Meadow View Conference Resort & Convention Center\, Kingsport\, TN\, 37660\, United States
CATEGORIES:Quarterly Business Meeting
END:VEVENT
BEGIN:VEVENT
DTSTART;TZID=America/New_York:20220617T180000
DTEND;TZID=America/New_York:20220617T190000
DTSTAMP:20260423T175833
CREATED:20220509T003429Z
LAST-MODIFIED:20220509T003441Z
UID:5620-1655488800-1655492400@swvafirefighters.com
SUMMARY:2022 Southwest Virginia Firefighters Association Memorial Service
DESCRIPTION:
URL:https://swvafirefighters.com/events/2022-southwest-virginia-firefighters-association-memorial-service/
LOCATION:Meadow View Conference Resort & Convention Center\, Kingsport\, TN\, 37660\, United States
CATEGORIES:Convention
END:VEVENT
BEGIN:VEVENT
DTSTART;TZID=America/New_York:20220617T090000
DTEND;TZID=America/New_York:20220617T120000
DTSTAMP:20260423T175833
CREATED:20220509T003140Z
LAST-MODIFIED:20220511T170427Z
UID:5618-1655456400-1655467200@swvafirefighters.com
SUMMARY:Fire Convention Wood Paint Party
DESCRIPTION:The 2022 Southwest Virginia Firefighters Association Paint Party event will be held at the 2022 Convention. \nClick on the link below to register for this event. \nFire convention Wood paint party (google.com)
URL:https://swvafirefighters.com/events/fire-convention-wood-paint-party/
LOCATION:Meadow View Conference Resort & Convention Center\, Kingsport\, TN\, 37660\, United States
CATEGORIES:Convention
END:VEVENT
BEGIN:VEVENT
DTSTART;TZID=America/New_York:20220616T120000
DTEND;TZID=America/New_York:20220616T180000
DTSTAMP:20260423T175833
CREATED:20220509T003802Z
LAST-MODIFIED:20220509T003802Z
UID:5623-1655380800-1655402400@swvafirefighters.com
SUMMARY:2022 Southwest Virginia Firefighters Association Golf Tournament
DESCRIPTION:
URL:https://swvafirefighters.com/events/2022-southwest-virginia-firefighters-association-golf-tournament/
LOCATION:Meadow View Conference Resort & Convention Center\, Kingsport\, TN\, 37660\, United States
CATEGORIES:Convention
END:VEVENT
BEGIN:VEVENT
DTSTART;VALUE=DATE:20220616
DTEND;VALUE=DATE:20220618
DTSTAMP:20260423T175833
CREATED:20210927T024724Z
LAST-MODIFIED:20210927T030248Z
UID:5409-1655337600-1655510399@swvafirefighters.com
SUMMARY:2022 Southwest Virginia Firefighters Association Conference Training
DESCRIPTION:The 2022 Southwest Virginia Firefighters Association will be offering the following training at the annual conference in Kingsport\, TN\, 16-17 June\, 2022. \nThe training will be presented by Deputy Chief Phil Jose of Seattle\, Washington. \nThe training that will be offered will by the following: \nThe Art of Reading Smoke and Tactical Decision-Making \nRegistration will be $50.00 per class for attendees that are not registered in the 76th Annual Conference. \nRegistration for the training is included in your conference registration. \nwww.ignitionpointtraining.com \n			\n				\n					\n						\n							\n							Loading...\n						\n					\n					\n						\n							\n							Taking too long?\n						\n						\n							\n								 Reload document							\n							|\n							\n								 Open in new tab
URL:https://swvafirefighters.com/events/2022-southwest-virginia-firefighters-association-conference-training/
LOCATION:Meadow View Conference Resort & Convention Center\, Kingsport\, TN\, 37660\, United States
CATEGORIES:Training
END:VEVENT
BEGIN:VEVENT
DTSTART;VALUE=DATE:20220521
DTEND;VALUE=DATE:20220522
DTSTAMP:20260423T175833
CREATED:20220403T135957Z
LAST-MODIFIED:20220403T141307Z
UID:5603-1653091200-1653177599@swvafirefighters.com
SUMMARY:Barren Springs Vol. Fire Dept. 8th Annual Golf Tournament
DESCRIPTION:Barren Springs Volunteer Fire Department  \n8th Annual Golf Tournament \nDraper Valley Golf Course \nMay 21\, 2022 \nTee Times will be announced prior to tournament date. \nMeals and snacks will be provided \nCaptain’s Choice Tournament \nIndividual………..$70.00                    One Mulligan………..$5.00 per player \n4 Person Team……$280.00                  One Red Tee…………$5.00 per player \nHole Sponsor…… $100.00 \n4 Person Team and Hole Sponsor Combo……..$350 \n  \nClick here to download the flyer / registration form.
URL:https://swvafirefighters.com/events/barren-springs-vol-fire-depat-8th-annual-golf-tournament/
LOCATION:Draper Valley Golf Course\, 2800 Big Valley Road\, Draper\, VA\, 24324\, United States
CATEGORIES:Fundraising
END:VEVENT
BEGIN:VEVENT
DTSTART;TZID=America/New_York:20220414T190000
DTEND;TZID=America/New_York:20220414T210000
DTSTAMP:20260423T175833
CREATED:20220403T141233Z
LAST-MODIFIED:20220403T141337Z
UID:5607-1649962800-1649970000@swvafirefighters.com
SUMMARY:Issues Facing Virginia Fire Service
DESCRIPTION:
URL:https://swvafirefighters.com/events/issues-facing-virginia-fire-service/
LOCATION:CVCC – Bedford Campus\, 1633 Venture Blvd.\, Bedford\, VA\, 24523\, United States
CATEGORIES:Training
ORGANIZER;CN="Walt Bailey / Virgginis Department of Public Safety & Homeland Security":MAILTO:phenixchief@gmail.com
END:VEVENT
BEGIN:VEVENT
DTSTART;TZID=America/New_York:20220410T130000
DTEND;TZID=America/New_York:20220410T150000
DTSTAMP:20260423T175833
CREATED:20210628T202300Z
LAST-MODIFIED:20210628T202300Z
UID:5255-1649595600-1649602800@swvafirefighters.com
SUMMARY:2022 Spring Business Meeting
DESCRIPTION:The 2022 Spring Business Meeting will be held on 10 April\, 2022 at the Riner Volunteer Fire Department in Riner\, Va. starting at 1300 hours.
URL:https://swvafirefighters.com/events/2022-spring-business-meeting/
LOCATION:Riner Volunteer Fire Department\, 3595 Riner Road\, Riner\, VA\, 24149\, United States
CATEGORIES:Quarterly Business Meeting
END:VEVENT
BEGIN:VEVENT
DTSTART;TZID=America/New_York:20220326T140000
DTEND;TZID=America/New_York:20220326T180000
DTSTAMP:20260423T175833
CREATED:20220206T163249Z
LAST-MODIFIED:20220206T163249Z
UID:5581-1648303200-1648317600@swvafirefighters.com
SUMMARY:2022 Riner Fire Department Oyster Dinner
DESCRIPTION:
URL:https://swvafirefighters.com/events/2022-riner-fire-department-oyster-dinner/
LOCATION:Riner Volunteer Fire Department\, 3595 Riner Road\, Riner\, VA\, 24149\, United States
CATEGORIES:Fundraising
END:VEVENT
BEGIN:VEVENT
DTSTART;VALUE=DATE:20220223
DTEND;VALUE=DATE:20220327
DTSTAMP:20260423T175833
CREATED:20220109T171054Z
LAST-MODIFIED:20220109T173806Z
UID:5429-1645574400-1648339199@swvafirefighters.com
SUMMARY:2022 VIRGINIA FIRE RESCUE CONFERENCE
DESCRIPTION:The 2022 Virginia Fire Rescue Conference will be held in Va. Beach\, 23-26 February\, 2022.\nThis conference is hosted by the Virginia Fire Chiefs Association.
URL:https://swvafirefighters.com/events/2022-virginia-fire-rescue-conference/
LOCATION:Virginia Beach Convention Center\, 1000 19th Street\, Va. Beach\, VA\, 23451\, United States
CATEGORIES:Training
END:VEVENT
END:VCALENDAR