BEGIN:VCALENDAR
VERSION:2.0
PRODID:-//Southwest Virginia Firefighters Association - ECPv6.15.20//NONSGML v1.0//EN
CALSCALE:GREGORIAN
METHOD:PUBLISH
X-WR-CALNAME:Southwest Virginia Firefighters Association
X-ORIGINAL-URL:https://swvafirefighters.com
X-WR-CALDESC:Events for Southwest Virginia Firefighters Association
REFRESH-INTERVAL;VALUE=DURATION:PT1H
X-Robots-Tag:noindex
X-PUBLISHED-TTL:PT1H
BEGIN:VTIMEZONE
TZID:America/New_York
BEGIN:DAYLIGHT
TZOFFSETFROM:-0500
TZOFFSETTO:-0400
TZNAME:EDT
DTSTART:20190310T070000
END:DAYLIGHT
BEGIN:STANDARD
TZOFFSETFROM:-0400
TZOFFSETTO:-0500
TZNAME:EST
DTSTART:20191103T060000
END:STANDARD
BEGIN:DAYLIGHT
TZOFFSETFROM:-0500
TZOFFSETTO:-0400
TZNAME:EDT
DTSTART:20200308T070000
END:DAYLIGHT
BEGIN:STANDARD
TZOFFSETFROM:-0400
TZOFFSETTO:-0500
TZNAME:EST
DTSTART:20201101T060000
END:STANDARD
BEGIN:DAYLIGHT
TZOFFSETFROM:-0500
TZOFFSETTO:-0400
TZNAME:EDT
DTSTART:20210314T070000
END:DAYLIGHT
BEGIN:STANDARD
TZOFFSETFROM:-0400
TZOFFSETTO:-0500
TZNAME:EST
DTSTART:20211107T060000
END:STANDARD
END:VTIMEZONE
BEGIN:VEVENT
DTSTART;TZID=America/New_York:20201018T130000
DTEND;TZID=America/New_York:20201018T160000
DTSTAMP:20260424T052011
CREATED:20200608T202456Z
LAST-MODIFIED:20200730T014025Z
UID:4209-1603026000-1603036800@swvafirefighters.com
SUMMARY:2020 Fall Business Meeting
DESCRIPTION:The 2020 Fall Business Meeting will be held on 18 October\, 2020 beginning at 1300 hours. \nThe meeting will be held at the Martinsville Firemen’s Cabin\, directions will be emailed out prior to the meeting.
URL:https://swvafirefighters.com/events/2020-fall-business-meeting/
LOCATION:Martinsville Volunteer Fire Company Fireman’s Cabin\, Redskin Drive\, Martinsville\, VA\, 24112\, United States
CATEGORIES:Quarterly Business Meeting
END:VEVENT
BEGIN:VEVENT
DTSTART;TZID=America/New_York:20201004T110000
DTEND;TZID=America/New_York:20201004T150000
DTSTAMP:20260424T052011
CREATED:20200922T001616Z
LAST-MODIFIED:20200922T003819Z
UID:4849-1601809200-1601823600@swvafirefighters.com
SUMMARY:Fall Catfish Dinner - Max Meadows Fire Department
DESCRIPTION:
URL:https://swvafirefighters.com/events/fall-catfish-dinner-max-meadows-fire-department/
LOCATION:Max Meadows Fire Department\, 823 Max Meadows Road\, Wytheville\, VA\, 24382\, United States
CATEGORIES:Fundraising
END:VEVENT
END:VCALENDAR